Package: omicsGMF Version: 1.0.0 Command: /Library/Frameworks/R.framework/Resources/bin/R CMD build --keep-empty-dirs --no-resave-data omicsGMF StartedAt: 2025-11-03 18:04:38 -0500 (Mon, 03 Nov 2025) EndedAt: 2025-11-03 18:06:11 -0500 (Mon, 03 Nov 2025) EllapsedTime: 93.7 seconds RetCode: 0 Status: OK PackageFile: omicsGMF_1.0.0.tar.gz PackageFileSize: 660.6 KiB