Package: omicsGMF Version: 1.0.0 Command: /Library/Frameworks/R.framework/Resources/bin/R CMD build --keep-empty-dirs --no-resave-data omicsGMF StartedAt: 2025-11-10 17:15:04 -0500 (Mon, 10 Nov 2025) EndedAt: 2025-11-10 17:15:38 -0500 (Mon, 10 Nov 2025) EllapsedTime: 34.4 seconds RetCode: 0 Status: OK PackageFile: omicsGMF_1.0.0.tar.gz PackageFileSize: 661.2 KiB