Package: omicsGMF Version: 1.0.0 Command: rm -rf omicsGMF.buildbin-libdir && mkdir omicsGMF.buildbin-libdir && /Users/biocbuild/BBS/utils/build-universal.sh omicsGMF_1.0.0.tar.gz /Library/Frameworks/R.framework/Resources/bin/R omicsGMF.buildbin-libdir StartedAt: 2025-11-10 23:30:04 -0500 (Mon, 10 Nov 2025) EndedAt: 2025-11-10 23:30:20 -0500 (Mon, 10 Nov 2025) EllapsedTime: 15.3 seconds RetCode: 0 Status: OK PackageFile: omicsGMF_1.0.0.tgz PackageFileSize: 746.8 KiB