Package: omicRexposome Version: 1.31.0 Command: /home/biocbuild/R/R/bin/R CMD INSTALL omicRexposome StartedAt: 2025-10-16 21:45:10 -0000 (Thu, 16 Oct 2025) EndedAt: 2025-10-16 21:46:13 -0000 (Thu, 16 Oct 2025) EllapsedTime: 63.2 seconds RetCode: 0 Status: OK