Package: omicRexposome Version: 1.31.0 Command: chmod a+r omicRexposome -R && F:\biocbuild\bbs-3.22-bioc\R\bin\R.exe CMD build --keep-empty-dirs --no-resave-data omicRexposome StartedAt: 2025-08-14 21:59:26 -0400 (Thu, 14 Aug 2025) EndedAt: 2025-08-14 22:28:09 -0400 (Thu, 14 Aug 2025) EllapsedTime: 1722.5 seconds RetCode: 0 Status: OK PackageFile: omicRexposome_1.31.0.tar.gz PackageFileSize: 1.902 MiB