Package: omicRexposome Version: 1.31.0 Command: rm -rf omicRexposome.buildbin-libdir && mkdir omicRexposome.buildbin-libdir && F:\biocbuild\bbs-3.22-bioc\R\bin\R.exe CMD INSTALL --build --library=omicRexposome.buildbin-libdir omicRexposome_1.31.0.tar.gz StartedAt: 2025-08-15 10:52:35 -0400 (Fri, 15 Aug 2025) EndedAt: 2025-08-15 10:54:10 -0400 (Fri, 15 Aug 2025) EllapsedTime: 95.6 seconds RetCode: 0 Status: OK PackageFile: omicRexposome_1.31.0.zip PackageFileSize: 2.21 MiB