Package: omicRexposome Version: 1.31.0 Command: /home/biocbuild/bbs-3.22-bioc/R/bin/R CMD INSTALL omicRexposome StartedAt: 2025-10-19 15:30:55 -0400 (Sun, 19 Oct 2025) EndedAt: 2025-10-19 15:31:40 -0400 (Sun, 19 Oct 2025) EllapsedTime: 45.3 seconds RetCode: 0 Status: OK