Package: omicRexposome Version: 1.31.0 Command: /home/biocbuild/bbs-3.22-bioc/R/bin/R CMD check --install=check:omicRexposome.install-out.txt --library=/home/biocbuild/bbs-3.22-bioc/R/site-library --timings omicRexposome_1.31.0.tar.gz StartedAt: 2025-10-20 02:50:02 -0400 (Mon, 20 Oct 2025) EndedAt: 2025-10-20 03:05:46 -0400 (Mon, 20 Oct 2025) EllapsedTime: 944.1 seconds RetCode: 0 Status: OK CheckDir: omicRexposome.Rcheck Warnings: 0