Package: omicRexposome Version: 1.31.0 Command: /Library/Frameworks/R.framework/Resources/bin/R CMD INSTALL omicRexposome StartedAt: 2025-10-19 15:30:46 -0400 (Sun, 19 Oct 2025) EndedAt: 2025-10-19 15:31:51 -0400 (Sun, 19 Oct 2025) EllapsedTime: 65.0 seconds RetCode: 0 Status: OK