Package: omicRexposome Version: 1.31.0 Command: rm -rf omicRexposome.buildbin-libdir && mkdir omicRexposome.buildbin-libdir && /Users/biocbuild/BBS/utils/build-universal.sh omicRexposome_1.31.0.tar.gz /Library/Frameworks/R.framework/Resources/bin/R omicRexposome.buildbin-libdir StartedAt: 2025-10-20 03:23:19 -0400 (Mon, 20 Oct 2025) EndedAt: 2025-10-20 03:24:30 -0400 (Mon, 20 Oct 2025) EllapsedTime: 71.5 seconds RetCode: 0 Status: OK PackageFile: omicRexposome_1.31.0.tgz PackageFileSize: 2.901 MiB