Package: omicRexposome Version: 1.31.0 Command: /Library/Frameworks/R.framework/Resources/bin/R CMD check --install=check:omicRexposome.install-out.txt --library=/Library/Frameworks/R.framework/Resources/library --no-vignettes --timings omicRexposome_1.31.0.tar.gz StartedAt: 2025-10-19 21:04:44 -0400 (Sun, 19 Oct 2025) EndedAt: 2025-10-19 21:06:30 -0400 (Sun, 19 Oct 2025) EllapsedTime: 106.2 seconds RetCode: 0 Status: OK CheckDir: omicRexposome.Rcheck Warnings: 0