Package: omicRexposome Version: 1.31.0 Command: /Library/Frameworks/R.framework/Resources/bin/R CMD build --keep-empty-dirs --no-resave-data omicRexposome StartedAt: 2025-10-19 17:12:33 -0400 (Sun, 19 Oct 2025) EndedAt: 2025-10-19 17:16:44 -0400 (Sun, 19 Oct 2025) EllapsedTime: 250.7 seconds RetCode: 0 Status: OK PackageFile: omicRexposome_1.31.0.tar.gz PackageFileSize: 2.609 MiB