Package: omicRexposome Version: 1.31.0 Maintainer: Xavier EscribĂ  Montagut MaintainerEmail: xavier.escriba at isglobal.org git_url: https://git.bioconductor.org/packages/omicRexposome git_branch: devel git_last_commit: 7cc185e git_last_commit_date: 2025-04-15 11:14:52 -0400 (Tue, 15 Apr 2025)