Package: omXplore Version: 1.4.0 Command: /Library/Frameworks/R.framework/Resources/bin/R CMD check --install=check:omXplore.install-out.txt --library=/Library/Frameworks/R.framework/Resources/library --no-vignettes --timings omXplore_1.4.0.tar.gz StartedAt: 2025-10-31 23:02:19 -0400 (Fri, 31 Oct 2025) EndedAt: 2025-10-31 23:10:12 -0400 (Fri, 31 Oct 2025) EllapsedTime: 473.0 seconds RetCode: 1 Status: ERROR CheckDir: omXplore.Rcheck Warnings: NA