Package: omXplore Version: 1.4.0 Command: rm -rf omXplore.buildbin-libdir && mkdir omXplore.buildbin-libdir && /Users/biocbuild/BBS/utils/build-universal.sh omXplore_1.4.0.tar.gz /Library/Frameworks/R.framework/Resources/bin/R omXplore.buildbin-libdir StartedAt: 2025-11-03 01:54:49 -0500 (Mon, 03 Nov 2025) EndedAt: 2025-11-03 01:55:53 -0500 (Mon, 03 Nov 2025) EllapsedTime: 63.6 seconds RetCode: 0 Status: OK PackageFile: omXplore_1.4.0.tgz PackageFileSize: 1.551 MiB