Package: oligo Version: 1.74.0 Command: /home/biocbuild/R/R/bin/R CMD check --install=check:oligo.install-out.txt --library=/home/biocbuild/R/R/site-library --no-vignettes --timings oligo_1.74.0.tar.gz StartedAt: 2025-11-14 12:25:31 -0000 (Fri, 14 Nov 2025) EndedAt: 2025-11-14 12:25:38 -0000 (Fri, 14 Nov 2025) EllapsedTime: 7.0 seconds RetCode: 1 Status: ERROR CheckDir: oligo.Rcheck Warnings: NA