Package: oligo Version: 1.74.0 Command: /home/biocbuild/R/R/bin/R CMD build --keep-empty-dirs --no-resave-data oligo StartedAt: 2025-11-14 03:51:18 -0000 (Fri, 14 Nov 2025) EndedAt: 2025-11-14 03:52:11 -0000 (Fri, 14 Nov 2025) EllapsedTime: 53.0 seconds RetCode: 0 Status: OK PackageFile: oligo_1.74.0.tar.gz PackageFileSize: 27.09 MiB