Package: oligo Version: 1.73.0 Command: F:\biocbuild\bbs-3.22-bioc\R\bin\R.exe CMD INSTALL oligo StartedAt: 2025-08-14 16:03:45 -0400 (Thu, 14 Aug 2025) EndedAt: 2025-08-14 16:05:10 -0400 (Thu, 14 Aug 2025) EllapsedTime: 85.3 seconds RetCode: 0 Status: OK