Package: oligo Version: 1.73.0 Command: F:\biocbuild\bbs-3.22-bioc\R\bin\R.exe CMD check --no-multiarch --install=check:oligo.install-out.txt --library=F:\biocbuild\bbs-3.22-bioc\R\library --no-vignettes --timings oligo_1.73.0.tar.gz StartedAt: 2025-08-15 05:57:57 -0400 (Fri, 15 Aug 2025) EndedAt: 2025-08-15 05:58:04 -0400 (Fri, 15 Aug 2025) EllapsedTime: 6.9 seconds RetCode: 1 Status: ERROR CheckDir: oligo.Rcheck Warnings: NA