Package: oligo Version: 1.73.0 Command: /Library/Frameworks/R.framework/Resources/bin/R CMD INSTALL oligo StartedAt: 2025-10-23 15:21:24 -0400 (Thu, 23 Oct 2025) EndedAt: 2025-10-23 15:22:14 -0400 (Thu, 23 Oct 2025) EllapsedTime: 49.7 seconds RetCode: 0 Status: OK