Package: oligo Version: 1.74.0 Command: /Library/Frameworks/R.framework/Resources/bin/R CMD build --keep-empty-dirs --no-resave-data oligo StartedAt: 2025-11-10 17:14:44 -0500 (Mon, 10 Nov 2025) EndedAt: 2025-11-10 17:15:04 -0500 (Mon, 10 Nov 2025) EllapsedTime: 20.3 seconds RetCode: 0 Status: OK PackageFile: oligo_1.74.0.tar.gz PackageFileSize: 27.09 MiB