Package: octad Version: 1.11.1 Command: /home/biocbuild/R/R/bin/R CMD build --keep-empty-dirs --no-resave-data octad StartedAt: 2025-10-17 03:13:56 -0000 (Fri, 17 Oct 2025) EndedAt: 2025-10-17 03:19:14 -0000 (Fri, 17 Oct 2025) EllapsedTime: 318.2 seconds RetCode: 0 Status: OK PackageFile: octad_1.11.1.tar.gz PackageFileSize: 1.192 MiB