Package: octad Version: 1.11.1 Command: chmod a+r octad -R && F:\biocbuild\bbs-3.22-bioc\R\bin\R.exe --arch x64 CMD build --keep-empty-dirs --no-resave-data octad StartedAt: 2025-08-14 21:58:13 -0400 (Thu, 14 Aug 2025) EndedAt: 2025-08-14 22:08:46 -0400 (Thu, 14 Aug 2025) EllapsedTime: 633.0 seconds RetCode: 0 Status: OK PackageFile: octad_1.11.1.tar.gz PackageFileSize: 1.179 MiB