Package: octad Version: 1.11.1 Command: rm -rf octad.buildbin-libdir && mkdir octad.buildbin-libdir && F:\biocbuild\bbs-3.22-bioc\R\bin\R.exe CMD INSTALL --build --library=octad.buildbin-libdir octad_1.11.1.tar.gz StartedAt: 2025-08-15 10:52:01 -0400 (Fri, 15 Aug 2025) EndedAt: 2025-08-15 10:53:05 -0400 (Fri, 15 Aug 2025) EllapsedTime: 64.7 seconds RetCode: 0 Status: OK PackageFile: octad_1.11.1.zip PackageFileSize: 1.256 MiB