Package: octad Version: 1.11.1 Command: /home/biocbuild/bbs-3.22-bioc/R/bin/R CMD INSTALL octad StartedAt: 2025-10-19 15:56:51 -0400 (Sun, 19 Oct 2025) EndedAt: 2025-10-19 15:57:50 -0400 (Sun, 19 Oct 2025) EllapsedTime: 58.5 seconds RetCode: 0 Status: OK