Package: octad Version: 1.11.1 Command: /home/biocbuild/bbs-3.22-bioc/R/bin/R CMD build --keep-empty-dirs --no-resave-data --md5 octad StartedAt: 2025-10-19 19:03:48 -0400 (Sun, 19 Oct 2025) EndedAt: 2025-10-19 19:07:18 -0400 (Sun, 19 Oct 2025) EllapsedTime: 210.2 seconds RetCode: 0 Status: OK PackageFile: octad_1.11.1.tar.gz PackageFileSize: 1.33 MiB