Package: octad Version: 1.11.1 Command: /Library/Frameworks/R.framework/Resources/bin/R CMD INSTALL octad StartedAt: 2025-10-19 15:50:37 -0400 (Sun, 19 Oct 2025) EndedAt: 2025-10-19 15:51:57 -0400 (Sun, 19 Oct 2025) EllapsedTime: 79.3 seconds RetCode: 0 Status: OK