Package: octad Version: 1.11.1 Command: /Library/Frameworks/R.framework/Resources/bin/R CMD check --install=check:octad.install-out.txt --library=/Library/Frameworks/R.framework/Resources/library --no-vignettes --timings octad_1.11.1.tar.gz StartedAt: 2025-10-20 00:20:45 -0400 (Mon, 20 Oct 2025) EndedAt: 2025-10-20 00:36:25 -0400 (Mon, 20 Oct 2025) EllapsedTime: 940.3 seconds RetCode: 0 Status: OK CheckDir: octad.Rcheck Warnings: 0