Package: octad Version: 1.11.1 Command: /Library/Frameworks/R.framework/Resources/bin/R CMD build --keep-empty-dirs --no-resave-data octad StartedAt: 2025-10-19 18:33:01 -0400 (Sun, 19 Oct 2025) EndedAt: 2025-10-19 18:40:25 -0400 (Sun, 19 Oct 2025) EllapsedTime: 443.8 seconds RetCode: 0 Status: OK PackageFile: octad_1.11.1.tar.gz PackageFileSize: 1.311 MiB