Package: octad Version: 1.11.1 Command: /Library/Frameworks/R.framework/Resources/bin/R CMD check --install=check:octad.install-out.txt --library=/Library/Frameworks/R.framework/Resources/library --no-vignettes --timings octad_1.11.1.tar.gz StartedAt: 2025-10-17 21:11:08 -0400 (Fri, 17 Oct 2025) EndedAt: 2025-10-17 21:14:40 -0400 (Fri, 17 Oct 2025) EllapsedTime: 211.5 seconds RetCode: 0 Status: OK CheckDir: octad.Rcheck Warnings: 0