Package: occugene Version: 1.69.0 Command: rm -rf occugene.buildbin-libdir && mkdir occugene.buildbin-libdir && F:\biocbuild\bbs-3.22-bioc\R\bin\R.exe CMD INSTALL --build --library=occugene.buildbin-libdir occugene_1.69.0.tar.gz StartedAt: 2025-08-15 10:51:57 -0400 (Fri, 15 Aug 2025) EndedAt: 2025-08-15 10:52:07 -0400 (Fri, 15 Aug 2025) EllapsedTime: 9.5 seconds RetCode: 0 Status: OK PackageFile: occugene_1.69.0.zip PackageFileSize: 159.4 KiB