Package: occugene Version: 1.70.0 Command: /Library/Frameworks/R.framework/Resources/bin/R CMD INSTALL occugene StartedAt: 2025-11-10 15:01:13 -0500 (Mon, 10 Nov 2025) EndedAt: 2025-11-10 15:01:14 -0500 (Mon, 10 Nov 2025) EllapsedTime: 1.3 seconds RetCode: 0 Status: OK