Package: occugene Version: 1.70.0 Command: /Library/Frameworks/R.framework/Resources/bin/R CMD check --install=check:occugene.install-out.txt --library=/Library/Frameworks/R.framework/Resources/library --no-vignettes --timings occugene_1.70.0.tar.gz StartedAt: 2025-11-10 21:24:41 -0500 (Mon, 10 Nov 2025) EndedAt: 2025-11-10 21:24:52 -0500 (Mon, 10 Nov 2025) EllapsedTime: 11.2 seconds RetCode: 0 Status: OK CheckDir: occugene.Rcheck Warnings: 0