Package: occugene Version: 1.70.0 Command: /Library/Frameworks/R.framework/Resources/bin/R CMD build --keep-empty-dirs --no-resave-data occugene StartedAt: 2025-11-10 17:14:35 -0500 (Mon, 10 Nov 2025) EndedAt: 2025-11-10 17:14:39 -0500 (Mon, 10 Nov 2025) EllapsedTime: 4.0 seconds RetCode: 0 Status: OK PackageFile: occugene_1.70.0.tar.gz PackageFileSize: 194.8 KiB