Package: nullranges Version: 1.15.1 Command: F:\biocbuild\bbs-3.22-bioc\R\bin\R.exe CMD check --no-multiarch --install=check:nullranges.install-out.txt --library=F:\biocbuild\bbs-3.22-bioc\R\library --no-vignettes --timings nullranges_1.15.1.tar.gz StartedAt: 2025-08-15 05:57:03 -0400 (Fri, 15 Aug 2025) EndedAt: 2025-08-15 06:02:58 -0400 (Fri, 15 Aug 2025) EllapsedTime: 354.6 seconds RetCode: 0 Status: OK CheckDir: nullranges.Rcheck Warnings: 0