Package: nullranges Version: 1.16.0 Command: /home/biocbuild/bbs-3.22-bioc/R/bin/R CMD INSTALL nullranges StartedAt: 2025-11-14 15:36:20 -0500 (Fri, 14 Nov 2025) EndedAt: 2025-11-14 15:36:32 -0500 (Fri, 14 Nov 2025) EllapsedTime: 12.4 seconds RetCode: 1 Status: ERROR