Package: nullranges Version: 1.16.0 Command: /Library/Frameworks/R.framework/Resources/bin/R CMD INSTALL nullranges StartedAt: 2025-11-10 15:18:52 -0500 (Mon, 10 Nov 2025) EndedAt: 2025-11-10 15:19:07 -0500 (Mon, 10 Nov 2025) EllapsedTime: 15.5 seconds RetCode: 0 Status: OK