Package: nullranges Version: 1.16.0 Command: /Library/Frameworks/R.framework/Resources/bin/R CMD build --keep-empty-dirs --no-resave-data nullranges StartedAt: 2025-11-10 17:14:34 -0500 (Mon, 10 Nov 2025) EndedAt: 2025-11-10 17:15:35 -0500 (Mon, 10 Nov 2025) EllapsedTime: 61.8 seconds RetCode: 0 Status: OK PackageFile: nullranges_1.16.0.tar.gz PackageFileSize: 5.058 MiB