Package: nucleoSim Version: 1.37.0 Command: /home/biocbuild/R/R/bin/R CMD check --install=check:nucleoSim.install-out.txt --library=/home/biocbuild/R/R/site-library --no-vignettes --timings nucleoSim_1.37.0.tar.gz StartedAt: 2025-10-17 11:45:47 -0000 (Fri, 17 Oct 2025) EndedAt: 2025-10-17 11:46:49 -0000 (Fri, 17 Oct 2025) EllapsedTime: 62.1 seconds RetCode: 0 Status: OK CheckDir: nucleoSim.Rcheck Warnings: 0