Package: nucleoSim Version: 1.37.0 Command: /home/biocbuild/R/R/bin/R CMD build --keep-empty-dirs --no-resave-data nucleoSim StartedAt: 2025-10-17 03:13:24 -0000 (Fri, 17 Oct 2025) EndedAt: 2025-10-17 03:13:41 -0000 (Fri, 17 Oct 2025) EllapsedTime: 17.0 seconds RetCode: 0 Status: OK PackageFile: nucleoSim_1.37.0.tar.gz PackageFileSize: 380.4 KiB