Package: nucleoSim Version: 1.37.0 Command: chmod a+r nucleoSim -R && F:\biocbuild\bbs-3.22-bioc\R\bin\R.exe CMD build --keep-empty-dirs --no-resave-data nucleoSim StartedAt: 2025-08-14 21:57:33 -0400 (Thu, 14 Aug 2025) EndedAt: 2025-08-14 21:57:54 -0400 (Thu, 14 Aug 2025) EllapsedTime: 20.7 seconds RetCode: 0 Status: OK PackageFile: nucleoSim_1.37.0.tar.gz PackageFileSize: 302.7 KiB