Package: nucleoSim Version: 1.37.0 Command: /home/biocbuild/bbs-3.22-bioc/R/bin/R CMD INSTALL nucleoSim StartedAt: 2025-10-19 15:58:54 -0400 (Sun, 19 Oct 2025) EndedAt: 2025-10-19 15:59:00 -0400 (Sun, 19 Oct 2025) EllapsedTime: 6.1 seconds RetCode: 0 Status: OK