Package: nucleoSim Version: 1.37.0 Command: /home/biocbuild/bbs-3.22-bioc/R/bin/R CMD build --keep-empty-dirs --no-resave-data --md5 nucleoSim StartedAt: 2025-10-19 19:03:28 -0400 (Sun, 19 Oct 2025) EndedAt: 2025-10-19 19:03:40 -0400 (Sun, 19 Oct 2025) EllapsedTime: 12.0 seconds RetCode: 0 Status: OK PackageFile: nucleoSim_1.37.0.tar.gz PackageFileSize: 456.8 KiB