Package: nucleoSim Version: 1.37.0 Command: /Library/Frameworks/R.framework/Resources/bin/R CMD build --keep-empty-dirs --no-resave-data nucleoSim StartedAt: 2025-10-19 18:32:08 -0400 (Sun, 19 Oct 2025) EndedAt: 2025-10-19 18:32:34 -0400 (Sun, 19 Oct 2025) EllapsedTime: 26.5 seconds RetCode: 0 Status: OK PackageFile: nucleoSim_1.37.0.tar.gz PackageFileSize: 463.5 KiB