Package: nucleoSim Version: 1.37.0 Command: rm -rf nucleoSim.buildbin-libdir && mkdir nucleoSim.buildbin-libdir && /Users/biocbuild/BBS/utils/build-universal.sh nucleoSim_1.37.0.tar.gz /Library/Frameworks/R.framework/Resources/bin/R nucleoSim.buildbin-libdir StartedAt: 2025-10-20 03:22:59 -0400 (Mon, 20 Oct 2025) EndedAt: 2025-10-20 03:23:12 -0400 (Mon, 20 Oct 2025) EllapsedTime: 12.8 seconds RetCode: 0 Status: OK PackageFile: nucleoSim_1.37.0.tgz PackageFileSize: 495.2 KiB