Package: nucleoSim Version: 1.37.0 Command: /Library/Frameworks/R.framework/Resources/bin/R CMD INSTALL nucleoSim StartedAt: 2025-10-19 15:30:43 -0400 (Sun, 19 Oct 2025) EndedAt: 2025-10-19 15:30:46 -0400 (Sun, 19 Oct 2025) EllapsedTime: 3.1 seconds RetCode: 0 Status: OK