Package: notameStats Version: 1.0.0 Command: /home/biocbuild/R/R/bin/R CMD INSTALL notameStats StartedAt: 2025-11-20 22:23:23 -0000 (Thu, 20 Nov 2025) EndedAt: 2025-11-20 22:23:56 -0000 (Thu, 20 Nov 2025) EllapsedTime: 32.3 seconds RetCode: 0 Status: OK