Package: notameStats Version: 1.0.0 Command: /home/biocbuild/R/R/bin/R CMD check --install=check:notameStats.install-out.txt --library=/home/biocbuild/R/R/site-library --no-vignettes --timings notameStats_1.0.0.tar.gz StartedAt: 2025-11-21 13:42:48 -0000 (Fri, 21 Nov 2025) EndedAt: 2025-11-21 13:50:12 -0000 (Fri, 21 Nov 2025) EllapsedTime: 443.8 seconds RetCode: 0 Status: OK CheckDir: notameStats.Rcheck Warnings: 0