Package: notameStats Version: 1.0.0 Command: /home/biocbuild/R/R/bin/R CMD build --keep-empty-dirs --no-resave-data notameStats StartedAt: 2025-11-21 04:27:23 -0000 (Fri, 21 Nov 2025) EndedAt: 2025-11-21 04:28:24 -0000 (Fri, 21 Nov 2025) EllapsedTime: 61.0 seconds RetCode: 0 Status: OK PackageFile: notameStats_1.0.0.tar.gz PackageFileSize: 280.8 KiB