Package: notameStats Version: 0.99.2 Command: /home/biocbuild/bbs-3.22-bioc/R/bin/R CMD check --install=check:notameStats.install-out.txt --library=/home/biocbuild/bbs-3.22-bioc/R/site-library --timings notameStats_0.99.2.tar.gz StartedAt: 2025-10-23 02:42:54 -0400 (Thu, 23 Oct 2025) EndedAt: 2025-10-23 02:47:38 -0400 (Thu, 23 Oct 2025) EllapsedTime: 284.3 seconds RetCode: 0 Status: OK CheckDir: notameStats.Rcheck Warnings: 0